BEGIN:VCALENDAR
VERSION:2.0
PRODID:-//ASAP - ECPv6.15.20//NONSGML v1.0//EN
CALSCALE:GREGORIAN
METHOD:PUBLISH
X-ORIGINAL-URL:https://asapworldwide.org
X-WR-CALDESC:Events for ASAP
REFRESH-INTERVAL;VALUE=DURATION:PT1H
X-Robots-Tag:noindex
X-PUBLISHED-TTL:PT1H
BEGIN:VTIMEZONE
TZID:America/Chicago
BEGIN:DAYLIGHT
TZOFFSETFROM:-0600
TZOFFSETTO:-0500
TZNAME:CDT
DTSTART:20250309T080000
END:DAYLIGHT
BEGIN:STANDARD
TZOFFSETFROM:-0500
TZOFFSETTO:-0600
TZNAME:CST
DTSTART:20251102T070000
END:STANDARD
BEGIN:DAYLIGHT
TZOFFSETFROM:-0600
TZOFFSETTO:-0500
TZNAME:CDT
DTSTART:20260308T080000
END:DAYLIGHT
BEGIN:STANDARD
TZOFFSETFROM:-0500
TZOFFSETTO:-0600
TZNAME:CST
DTSTART:20261101T070000
END:STANDARD
BEGIN:DAYLIGHT
TZOFFSETFROM:-0600
TZOFFSETTO:-0500
TZNAME:CDT
DTSTART:20270314T080000
END:DAYLIGHT
BEGIN:STANDARD
TZOFFSETFROM:-0500
TZOFFSETTO:-0600
TZNAME:CST
DTSTART:20271107T070000
END:STANDARD
END:VTIMEZONE
BEGIN:VTIMEZONE
TZID:UTC
BEGIN:STANDARD
TZOFFSETFROM:+0000
TZOFFSETTO:+0000
TZNAME:UTC
DTSTART:20240101T000000
END:STANDARD
END:VTIMEZONE
BEGIN:VEVENT
DTSTART;TZID=America/Chicago:20260228T120000
DTEND;TZID=America/Chicago:20260228T150000
DTSTAMP:20260422T135245
CREATED:20260124T005657Z
LAST-MODIFIED:20260124T005657Z
UID:1282-1772280000-1772290800@asapworldwide.org
SUMMARY:Ella Jo Baker Movement School - Movement Motivator 2
DESCRIPTION:NEXT ELLA JO BAKER MOVEMENT SCHOOL SESSION \n\n Saturday\, February 28\n 12:00 PM – 3:00 PM\n In-person | Seats Limited\n\n\n\nMovement Motivator: Who Really Runs Louisiana?\n\nPower doesn’t just exist—it’s organized. And if we don’t understand who actually makes decisions in Louisiana\, we can’t change the outcomes affecting our lives\, our communities\, or our future.\n\n\n\nThis session will break down:\n• Who holds real power in our state\n• How decisions get made behind closed doors\n• Why communities are often locked out\n• And what it takes to shift power back to the people\n\n\n\n Registration is REQUIRED. Seats are limited and will fill up fast.\n\nThere is too much at stake in our nation and in Louisiana for us to sit this one out.\nPolitical education is not optional—it’s protection in the days ahead.\n Register now. Bring a friend. Come ready to think\, question\, and build.\n#PoliticalEducation #LouisianaPolitics #AllStreetsAllPeople
URL:https://asapworldwide.org/event/ella-jo-baker-movement-school-movement-motivator-2/
LOCATION:Louisiana
ORGANIZER;CN="ASAP":MAILTO:info@asaworldwide.org
END:VEVENT
BEGIN:VEVENT
DTSTART;TZID=UTC:20260221T120000
DTEND;TZID=UTC:20260221T150000
DTSTAMP:20260422T135245
CREATED:20260124T013137Z
LAST-MODIFIED:20260124T013137Z
UID:1291-1771675200-1771686000@asapworldwide.org
SUMMARY:Teach-In with AkataTribune
DESCRIPTION:Join us as we partner with a local grassroots organization\, Akata Tribune\, for a discussion on the work and life of Malcolm X and his importance in modern politics. This is part one of Akata Tribune’s two part black history event. Both will be held at the Hollywood library! We are partnering because we believe political education is a weapon for change. Register here:  https://www.facebook.com/share/1K2qp4QFH8/
URL:https://asapworldwide.org/event/teach-in-with-akatatribune-2/
LOCATION:Hollywood Branch Library\, 2105 Hollywood Avenue\, Shreveport\, Louisiana\, 71108
ORGANIZER;CN="ASAP":MAILTO:info@asaworldwide.org
END:VEVENT
BEGIN:VEVENT
DTSTART;TZID=UTC:20260214T120000
DTEND;TZID=UTC:20260214T140000
DTSTAMP:20260422T135245
CREATED:20260124T012729Z
LAST-MODIFIED:20260124T012729Z
UID:1286-1771070400-1771077600@asapworldwide.org
SUMMARY:Teach-In with AkataTribune
DESCRIPTION:Join us as we partner with a local grassroots organization\, Akata Tribune\, for a discussion on the work and life of Malcolm X and his importance in modern politics. This is part one of Akata Tribune’s two part black history event. Both will be held at the Hollywood library! We are partnering because we believe political education is a weapon for change. Register here:  https://www.facebook.com/share/17nsqGT6JU/
URL:https://asapworldwide.org/event/teach-in-with-akatatribune/
LOCATION:Hollywood Branch Library\, 2105 Hollywood Avenue\, Shreveport\, Louisiana\, 71108
ORGANIZER;CN="ASAP":MAILTO:info@asaworldwide.org
END:VEVENT
BEGIN:VEVENT
DTSTART;TZID=America/Chicago:20260117T120000
DTEND;TZID=America/Chicago:20260117T150000
DTSTAMP:20260422T135245
CREATED:20251229T213438Z
LAST-MODIFIED:20251229T213928Z
UID:1118-1768651200-1768662000@asapworldwide.org
SUMMARY:The Ella Jo Baker Movement School - Movement Motivator I - How Do We Really Win?
DESCRIPTION:Join us for our first Movement Motivator of 2026!\nRegistration is required: https://bit.ly/EJBMS2026 \nJoin the Ella Jo Baker Movement School (EJBMS 2026) for our first Movement Motivator of the year Saturday\, January 17th at noon. Our facilitators will lead a well-rounded discussion on “How Do We Really Win?”. We will examine the tools\, resources\, and past practices that are at our disposal to address systemic inequalities in our community. No matter which societal issue you are most passionate about\, this session will open your eyes to the tool set that is accessible\, and actionable for 2026 and beyond. This session will be applicable to individuals most passionate about elections\, environmental justice\, education justice\, economic justice and quality-of-life programs like SNAP + Medicaid\, Health Justice\, and more. \nDon’t forget to register! https://bit.ly/EJBMS2026
URL:https://asapworldwide.org/event/the-ella-jo-baker-movement-school-movement-motivator-i-how-do-we-really-win/
LOCATION:Registration Required
END:VEVENT
BEGIN:VEVENT
DTSTART;TZID=UTC:20251212T130000
DTEND;TZID=UTC:20251213T170000
DTSTAMP:20260422T135245
CREATED:20251202T040209Z
LAST-MODIFIED:20251202T040209Z
UID:1115-1765544400-1765645200@asapworldwide.org
SUMMARY:Ella Jo Baker Movement School: Fight Back Training
DESCRIPTION:Join us Friday and Saturday\, December 12th and 13th for an in-depth training of the trainers. This 2-day non-cooperation training will examine our current political landscape\, and  provide us the tools to organize and build power\, together! Register here: https://bit.ly/EJBMSFightBack2025\nJoin us Friday and Saturday\, December 12th and 13th for an in-depth training of the trainers. This 2-day non-cooperation training will examine our current political landscape\, and  provide us the tools to organize and build power\, together! Register here: https://bit.ly/EJBMSFightBack2025 \nThe Ella Jo Baker Movement School (EJBMS)  is a program of All Streets All People (ASAP)\, a 501(c)(3) nonprofit organization. The EJBMS team is dedicated to training freedom fighters\, advocates\, organizers and everyday people across the Deep South. Rooted in Ella Baker’s philosophy that “Strong people don’t need strong leaders\,”EJBMS equips everyday people with the skills to build power\, movements\, and institutions that last. Do you know other community leaders\, organizers\, activists and youth leaders who could benefit from this training? Have them register here: https://bit.ly/EJBMSFightBack2025 \n 
URL:https://asapworldwide.org/event/ella-jo-baker-movement-school-fight-back-training/
LOCATION:Louisiana
END:VEVENT
BEGIN:VEVENT
DTSTART;TZID=UTC:20250823T110000
DTEND;TZID=UTC:20250823T140000
DTSTAMP:20260422T135245
CREATED:20250813T111841Z
LAST-MODIFIED:20250813T112155Z
UID:1023-1755946800-1755957600@asapworldwide.org
SUMMARY:Find You Something Safe to Do
DESCRIPTION:JOIN US: “Find You Something Safe to Do” is hosting a hygiene kit giveaway at “G-Styles” Barber Shop\, Saturday\, August 23rd at 11am! Know a student/parent/family that could benefit?  Send them over. \nFirst Come\, First Serve | Free Food | Community Partners
URL:https://asapworldwide.org/event/find-you-something-safe-to-do/
LOCATION:G-Styles Barber Shop\, 638 E 70th Street\, Shreveport\, LA\, 71106
ATTACH;FMTTYPE=image/webp:https://asapworldwide.org/wp-content/uploads/2025/08/515206296_755194337118845_4782380077178827296_n.webp
ORGANIZER;CN="ASAP":MAILTO:info@asaworldwide.org
END:VEVENT
BEGIN:VEVENT
DTSTART;TZID=UTC:20250617T153000
DTEND;TZID=UTC:20250617T170000
DTSTAMP:20260422T135245
CREATED:20250706T135342Z
LAST-MODIFIED:20250706T145044Z
UID:954-1750174200-1750179600@asapworldwide.org
SUMMARY:Movement for Education Justice: Public Hearing
DESCRIPTION:Movement for Education Justice: Public Hearing \nTuesday\, June 17 3:30PM\nMeet at: Caddo Parish School Board\n1961 Midway Avenue\nShreveport\, LA 71109 \nContact (318)734-9107 for more info:\nAttend this meeting if you are concerned about school\nclosures in Caddo Parish.
URL:https://asapworldwide.org/event/movement-for-education-justice-public-hearing/
LOCATION:Caddo Parish School Board\, 1961 Midway Avenue\, Shreveport\, LA\, 71109\, United States
ATTACH;FMTTYPE=image/webp:https://asapworldwide.org/wp-content/uploads/2025/07/509735184_715042261134053_6216868936301972379_n.webp
ORGANIZER;CN="ASAP":MAILTO:info@asaworldwide.org
END:VEVENT
BEGIN:VEVENT
DTSTART;TZID=UTC:20250505T180000
DTEND;TZID=UTC:20250505T200000
DTSTAMP:20260422T135245
CREATED:20250505T104812Z
LAST-MODIFIED:20250505T105043Z
UID:668-1746468000-1746475200@asapworldwide.org
SUMMARY:Movement for Education Justice: Communication Strategy Meeting
DESCRIPTION:Movement for Education Justice\nCommunity Strategy Meeting\nPlease join us Tuesday\, May 6th! \nRegistration: 5:30PM | Meeting starts at 6:00 PM\n5000 Greenwood Road\, Shreveport\, LA 71109 \nRECONNECT\, RE-ENGAGE\, RESPOND.
URL:https://asapworldwide.org/event/movement-for-education-justice-communication-strategy-meeting/
LOCATION:5000 Greenwood Road\, 5000 Greenwood Road\, Shreveport\, LA\, 71109
CATEGORIES:CommunityStrategy
ATTACH;FMTTYPE=image/webp:https://asapworldwide.org/wp-content/uploads/2025/05/494406564_678682234770056_1198315290309207790_n.webp
ORGANIZER;CN="ASAP":MAILTO:info@asaworldwide.org
END:VEVENT
BEGIN:VEVENT
DTSTART;TZID=UTC:20250414T180000
DTEND;TZID=UTC:20250414T200000
DTSTAMP:20260422T135245
CREATED:20250405T182839Z
LAST-MODIFIED:20250505T105159Z
UID:501-1744653600-1744660800@asapworldwide.org
SUMMARY:What's the TEA? Louisiana Black Futures Virtual Community Meeting
DESCRIPTION:A virtual network meeting with our partner Black Future’s Lab. To debrief on what is currently happening politically and strategize about what is next. \nPlease register to join “What’s the TEA? Louisiana Black Futures Virtual Community Meeting” on Monday\, April 14th at 6pm. https://bit.ly/whatstheteaLA1
URL:https://asapworldwide.org/event/whats-the-tea-louisiana-black-futures-virtual-community-meetin/
LOCATION:Zoom
ATTACH;FMTTYPE=image/jpeg:https://asapworldwide.org/wp-content/uploads/2024/12/teemu-paananen-rd5uNIUJCF0-unsplash-scaled.jpg
ORGANIZER;CN="ASAP":MAILTO:info@asaworldwide.org
END:VEVENT
END:VCALENDAR